BEGIN:VCALENDAR
VERSION:2.0
PRODID:-//Plone.org//NONSGML plone.app.event//EN
X-WR-TIMEZONE:US/Eastern
BEGIN:VEVENT
SUMMARY:Plant Swap
DTSTART;TZID=US/Eastern:20260420T160000
DTEND;TZID=US/Eastern:20260420T180000
DTSTAMP:20260420T050325Z
UID:77956706da9945a3ae3879b07cde017c@saas_stack_varnish:6080
CREATED:20260223T224106Z
DESCRIPTION:Our Plant Swap is back for the second time! Bring plants or cu
 ttings you no longer want and trade them with others. This is a swap-for-s
 wap event — if you bring one plant\, you leave with one plant. Plants mu
 st be potted in soil\, pest-free\, and in good condition. It’s a fun way
  to grow your collection and meet other plant lovers.
LAST-MODIFIED:20260223T224115Z
URL:https://www.wheelerpl.michlibrary.org/plant-swap-1
END:VEVENT
BEGIN:VEVENT
SUMMARY:Toddler Time
DTSTART;TZID=US/Eastern:20260422T103000
DTEND;TZID=US/Eastern:20260422T113000
DTSTAMP:20260420T050325Z
UID:e0ed9eb657f04502a63071a7f9acb667@saas_stack_varnish:6080
RRULE:FREQ=WEEKLY;COUNT=13;BYDAY=WE
CREATED:20260223T231918Z
DESCRIPTION:Join us for Toddler Time\, a fun early literacy program for ch
 ildren not yet in school and their caregivers. We’ll enjoy a story\, sin
 g and dance together\, make a simple craft\, play with library toys\, and 
 share a snack. A great opportunity for little ones to build early literacy
  skills while having fun in a welcoming library space.
LAST-MODIFIED:20260223T231932Z
URL:https://www.wheelerpl.michlibrary.org/toddler-time-6
END:VEVENT
BEGIN:VEVENT
SUMMARY:Afternoon Book Club
DTSTART;TZID=US/Eastern:20260427T130000
DTEND;TZID=US/Eastern:20260427T140000
DTSTAMP:20260420T050325Z
UID:784976fed10340fd91c46a884ce11813@saas_stack_varnish:6080
CREATED:20260223T233344Z
DESCRIPTION:Join the afternoon book club as they discuss The Wedding Peopl
 e by Alison Espach.  The library will have copies of the books available f
 or checkout.
LAST-MODIFIED:20260223T233354Z
URL:https://www.wheelerpl.michlibrary.org/afternoon-book-club-1
END:VEVENT
BEGIN:VEVENT
SUMMARY:Library Board Meeting
DTSTART;TZID=US/Eastern:20260428T170000
DTEND;TZID=US/Eastern:20260428T180000
DTSTAMP:20260420T050325Z
UID:4a2ff8ae31f3495fa56f1666e3a24c80@saas_stack_varnish:6080
RRULE:FREQ=MONTHLY;COUNT=10;BYDAY=+4TU
CREATED:20260107T190409Z
LAST-MODIFIED:20260107T190416Z
URL:https://www.wheelerpl.michlibrary.org/library-board-meeting-1
END:VEVENT
BEGIN:VEVENT
SUMMARY:After School Story Hour
DTSTART;TZID=US/Eastern:20260429T151500
DTEND;TZID=US/Eastern:20260429T161500
DTSTAMP:20260420T050325Z
UID:4985b115ee3748969666fa492393bd5e@saas_stack_varnish:6080
RRULE:FREQ=WEEKLY;COUNT=2;BYDAY=WE
CREATED:20260223T232611Z
DESCRIPTION:After School Story Hour is a fun\, relaxed literacy program fo
 r school-age children. We’ll read a story\, enjoy a slightly more advanc
 ed craft (similar to our Toddler Time project)\, listen to music while we 
 create\, play with library toys\, and have a snack. A great way to unwind 
 after the school day while building a love of reading.
LAST-MODIFIED:20260223T232619Z
URL:https://www.wheelerpl.michlibrary.org/after-school-story-hour-10
END:VEVENT
BEGIN:VEVENT
SUMMARY:Teen DIY Bird Feeders
DTSTART;TZID=US/Eastern:20260504T153000
DTEND;TZID=US/Eastern:20260504T163000
DTSTAMP:20260420T050325Z
UID:3a66e1744f414d21bbf18589dd80fca5@saas_stack_varnish:6080
CREATED:20260223T225037Z
DESCRIPTION:Teens will be making DIY bird feeders using pinecones\, peanut
  butter\, and string. It’s a simple\, hands-on project you can take home
  and hang outside to attract birds this spring.
LAST-MODIFIED:20260223T225048Z
URL:https://www.wheelerpl.michlibrary.org/teen-diy-bird-feeders
END:VEVENT
BEGIN:VEVENT
SUMMARY:Evening Book Club
DTSTART;TZID=US/Eastern:20260504T173000
DTEND;TZID=US/Eastern:20260504T183000
DTSTAMP:20260420T050325Z
UID:5ba4b884d7a847dd8f3ab9787efa54de@saas_stack_varnish:6080
CREATED:20251010T171819Z
DESCRIPTION:Join the evening book club as they discuss a biography of thei
 r choice. Members have the month to choose a biography (or nonfiction) tha
 t they would like to read and then share with the group anything they like
 d or disliked. The library will have copies of various biographies and non
  fictions to checkout.
LAST-MODIFIED:20260223T222920Z
URL:https://www.wheelerpl.michlibrary.org/news-events/lib-cal/evening-book
 -club-23
END:VEVENT
BEGIN:VEVENT
SUMMARY:Youth Recycled Bouquets for Her
DTSTART;TZID=US/Eastern:20260509T103000
DTEND;TZID=US/Eastern:20260509T113000
DTSTAMP:20260420T050325Z
UID:7507ae71912b4f08b4e0c540376f8120@saas_stack_varnish:6080
CREATED:20260223T224826Z
DESCRIPTION:Youth are invited to create handmade bouquets using recycled s
 crap paper and construction paper. This creative program encourages imagin
 ation while showing how everyday materials can be transformed into somethi
 ng meaningful.
LAST-MODIFIED:20260223T224950Z
URL:https://www.wheelerpl.michlibrary.org/youth-recycled-bouquets-for-her
END:VEVENT
BEGIN:VEVENT
SUMMARY:Adult Paint With Laura
DTSTART;TZID=US/Eastern:20260511T173000
DTEND;TZID=US/Eastern:20260511T183000
DTSTAMP:20260420T050325Z
UID:a4066519cc9b48fb957093d32a9436fb@saas_stack_varnish:6080
CREATED:20260223T224645Z
DESCRIPTION:Join Laura for a fun painting night\, where she’ll guide par
 ticipants step-by-step through creating a spring painting. The cost is $25
  per person and includes all supplies\, prep\, instruction\, and clean-up.
  Registration is required\, so please call the library to reserve your spo
 t
LAST-MODIFIED:20260223T224653Z
URL:https://www.wheelerpl.michlibrary.org/adult-paint-with-laura
END:VEVENT
BEGIN:VEVENT
SUMMARY:Afternoon Book Club
DTSTART;TZID=US/Eastern:20260518T130000
DTEND;TZID=US/Eastern:20260518T140000
DTSTAMP:20260420T050325Z
UID:1ca7111dd93c4d3788608d3b006f2cbb@saas_stack_varnish:6080
CREATED:20260223T233512Z
DESCRIPTION:Join the afternoon book club as they discuss The Wager by Davi
 d Grann.  The library will have copies of the books available for checkout
 .
LAST-MODIFIED:20260223T233522Z
URL:https://www.wheelerpl.michlibrary.org/afternoon-book-club-2
END:VEVENT
BEGIN:VEVENT
SUMMARY:After School Story Hour
DTSTART;TZID=US/Eastern:20260520T151500
DTEND;TZID=US/Eastern:20260520T161500
DTSTAMP:20260420T050325Z
UID:011035f7b4d3462ea2d7725df999f6dd@saas_stack_varnish:6080
CREATED:20260223T232721Z
DESCRIPTION:After School Story Hour is a fun\, relaxed literacy program fo
 r school-age children. We’ll read a story\, enjoy a slightly more advanc
 ed craft (similar to our Toddler Time project)\, listen to music while we 
 create\, play with library toys\, and have a snack. A great way to unwind 
 after the school day while building a love of reading.
LAST-MODIFIED:20260223T232728Z
URL:https://www.wheelerpl.michlibrary.org/after-school-story-hour-11
END:VEVENT
BEGIN:VEVENT
SUMMARY:Closed for Memorial Day
DTSTART;VALUE=DATE:20260525
DTEND;VALUE=DATE:20260526
DTSTAMP:20260420T050325Z
UID:e33a9df16dae4cd8bab9e96ab1efb08e@saas_stack_varnish:6080
CREATED:20260225T164444Z
LAST-MODIFIED:20260225T164812Z
URL:https://www.wheelerpl.michlibrary.org/closed-for-memorial-day-1
END:VEVENT
BEGIN:VEVENT
SUMMARY:Evening Book Club
DTSTART;TZID=US/Eastern:20260601T173000
DTEND;TZID=US/Eastern:20260601T183000
DTSTAMP:20260420T050325Z
UID:44d5d9b60f224b04bb715da7284348e9@saas_stack_varnish:6080
CREATED:20251010T171931Z
DESCRIPTION:Join the evening book club as they discuss The Maid by Nita Pr
 ose. Copies of the book will be available for checkout at the library.
LAST-MODIFIED:20260223T223031Z
URL:https://www.wheelerpl.michlibrary.org/news-events/lib-cal/evening-book
 -club-24
END:VEVENT
BEGIN:VEVENT
SUMMARY:Afternoon Book Club
DTSTART;TZID=US/Eastern:20260622T130000
DTEND;TZID=US/Eastern:20260622T140000
DTSTAMP:20260420T050325Z
UID:16ac845e9e1947c4a11960f7ad9fc1af@saas_stack_varnish:6080
CREATED:20260225T170854Z
DESCRIPTION:Join the afternoon book club as they discuss The Husbands by H
 olly Gramazlo. The library will have copies of the books available for che
 ckout.
LAST-MODIFIED:20260225T170913Z
URL:https://www.wheelerpl.michlibrary.org/afternoon-book-club-3
END:VEVENT
BEGIN:VEVENT
SUMMARY:Evening Book Club
DTSTART;TZID=US/Eastern:20260706T173000
DTEND;TZID=US/Eastern:20260706T183000
DTSTAMP:20260420T050325Z
UID:91d0bfbca29d4bb4bccd96035af8981a@saas_stack_varnish:6080
CREATED:20251010T181209Z
DESCRIPTION:Join the evening book club as they discuss The Berry Pickers b
 y Amanda Peters.  Copies of the book will be available for checkout at the
  library.
LAST-MODIFIED:20260223T223212Z
URL:https://www.wheelerpl.michlibrary.org/news-events/lib-cal/evening-book
 -club-25
END:VEVENT
BEGIN:VEVENT
SUMMARY:Afternoon Book Club
DTSTART;TZID=US/Eastern:20260727T130000
DTEND;TZID=US/Eastern:20260727T140000
DTSTAMP:20260420T050325Z
UID:8665ab60482e499c9add2dbd607d2eaa@saas_stack_varnish:6080
CREATED:20260225T171036Z
DESCRIPTION:Join the afternoon book club as they discuss The Emperor of Gl
 adness by Ocean Vuong. The library will have copies of the books available
  for checkout.
LAST-MODIFIED:20260225T171530Z
URL:https://www.wheelerpl.michlibrary.org/afternoon-book-club-4
END:VEVENT
BEGIN:VEVENT
SUMMARY:Evening Book Club
DTSTART;TZID=US/Eastern:20260803T173000
DTEND;TZID=US/Eastern:20260803T183000
DTSTAMP:20260420T050325Z
UID:ea5543b668214fa08ff0166b44fd019d@saas_stack_varnish:6080
CREATED:20251010T181326Z
DESCRIPTION:Join the evening book club as they discuss The Housemaid by Fr
 eida McFadden. The library will have copies of the book available for chec
 kout.
LAST-MODIFIED:20251010T181339Z
URL:https://www.wheelerpl.michlibrary.org/news-events/lib-cal/evening-book
 -club-26
END:VEVENT
BEGIN:VEVENT
SUMMARY:Afternoon Book Club
DTSTART;TZID=US/Eastern:20260824T130000
DTEND;TZID=US/Eastern:20260824T140000
DTSTAMP:20260420T050325Z
UID:df648806cffa4aed8ef6eac898dd5b7d@saas_stack_varnish:6080
CREATED:20260225T171743Z
DESCRIPTION:Join the afternoon book club as they discuss Song of Solomon b
 y Toni Morrison. The library will have copies of the books available for c
 heckout.
LAST-MODIFIED:20260225T171755Z
URL:https://www.wheelerpl.michlibrary.org/afternoon-book-club-5
END:VEVENT
BEGIN:VEVENT
SUMMARY:Evening Book Club
DTSTART;TZID=US/Eastern:20260914T173000
DTEND;TZID=US/Eastern:20260914T183000
DTSTAMP:20260420T050325Z
UID:4c4e77f70d014b0b9b6129b14b6038f4@saas_stack_varnish:6080
CREATED:20251010T181451Z
DESCRIPTION:Join the evening book club as they discuss The Diamond Eye by 
 Kate Quinn. The library will have copies of the book available for checkou
 t.
LAST-MODIFIED:20251010T181457Z
URL:https://www.wheelerpl.michlibrary.org/news-events/lib-cal/evening-book
 -club-27
END:VEVENT
BEGIN:VEVENT
SUMMARY:Afternoon Book Club
DTSTART;TZID=US/Eastern:20260928T130000
DTEND;TZID=US/Eastern:20260928T140000
DTSTAMP:20260420T050325Z
UID:4474a35795eb4eca8e77b10265db75c4@saas_stack_varnish:6080
CREATED:20260225T171854Z
DESCRIPTION:Join the afternoon book club as they discuss The Power by Naom
 i Alderman. The library will have copies of the books available for checko
 ut.
LAST-MODIFIED:20260225T171901Z
URL:https://www.wheelerpl.michlibrary.org/afternoon-book-club-6
END:VEVENT
BEGIN:VEVENT
SUMMARY:Evening Book Club
DTSTART;TZID=US/Eastern:20261005T173000
DTEND;TZID=US/Eastern:20261005T183000
DTSTAMP:20260420T050325Z
UID:2fc2eccc73384ed88b22d9c1dcbca378@saas_stack_varnish:6080
CREATED:20251010T182309Z
DESCRIPTION:Join the evening book club as they discuss The Overnight Guest
  by Heather Gudenkauf. The library will have copies of the book available 
 for checkout.
LAST-MODIFIED:20251010T182333Z
URL:https://www.wheelerpl.michlibrary.org/news-events/lib-cal/evening-book
 -club-28
END:VEVENT
BEGIN:VEVENT
SUMMARY:Afternoon Book Club
DTSTART;TZID=US/Eastern:20261026T130000
DTEND;TZID=US/Eastern:20261026T140000
DTSTAMP:20260420T050325Z
UID:be67f114cffd4c868930084829c59843@saas_stack_varnish:6080
CREATED:20260225T172029Z
DESCRIPTION:Join the afternoon book club as they discuss None of This Is T
 rue by Lisa Jewell. The library will have copies of the books available fo
 r checkout.
LAST-MODIFIED:20260225T172037Z
URL:https://www.wheelerpl.michlibrary.org/afternoon-book-club-7
END:VEVENT
BEGIN:VEVENT
SUMMARY:Evening Book Club
DTSTART;TZID=US/Eastern:20261102T173000
DTEND;TZID=US/Eastern:20261102T183000
DTSTAMP:20260420T050325Z
UID:05b10cbe3e8247a9b947bd752778d4eb@saas_stack_varnish:6080
CREATED:20251010T182743Z
DESCRIPTION:Join the evening book club as they discuss The Dressmakers of 
 Auschwitz by Lucy Aldington. The library will have copies of the book avai
 lable for checkout
LAST-MODIFIED:20251010T182751Z
URL:https://www.wheelerpl.michlibrary.org/news-events/lib-cal/evening-book
 -club-29
END:VEVENT
BEGIN:VEVENT
SUMMARY:Afternoon Book Club
DTSTART;TZID=US/Eastern:20261116T130000
DTEND;TZID=US/Eastern:20261116T140000
DTSTAMP:20260420T050325Z
UID:593aa74dd7a1412cb8d69eba44ace6c3@saas_stack_varnish:6080
CREATED:20260225T172149Z
DESCRIPTION:Join the afternoon book club as they discuss Pachinko by Min J
 in Lee. The library will have copies of the books available for checkout.
LAST-MODIFIED:20260225T172158Z
URL:https://www.wheelerpl.michlibrary.org/afternoon-book-club-8
END:VEVENT
BEGIN:VEVENT
SUMMARY:Library Board Meeting
DTSTART;TZID=US/Eastern:20261201T170000
DTEND;TZID=US/Eastern:20261201T180000
DTSTAMP:20260420T050325Z
UID:3a0c627576fd418fb8ad8ce94f5a8553@saas_stack_varnish:6080
CREATED:20260107T190521Z
LAST-MODIFIED:20260107T190740Z
URL:https://www.wheelerpl.michlibrary.org/library-board-meeting-2
END:VEVENT
BEGIN:VEVENT
SUMMARY:Evening Book Club
DTSTART;TZID=US/Eastern:20261207T173000
DTEND;TZID=US/Eastern:20261207T183000
DTSTAMP:20260420T050325Z
UID:986962b9c69a488f883f416977bd6afc@saas_stack_varnish:6080
CREATED:20251010T182858Z
DESCRIPTION:Join the evening book club as they discuss The Beach House by 
 James Patterson. The library will have copies of the book available for ch
 eckout.
LAST-MODIFIED:20251010T182904Z
URL:https://www.wheelerpl.michlibrary.org/news-events/lib-cal/evening-book
 -club-30
END:VEVENT
BEGIN:VEVENT
SUMMARY:Afternoon Book Club
DTSTART;TZID=US/Eastern:20261214T130000
DTEND;TZID=US/Eastern:20261214T140000
DTSTAMP:20260420T050325Z
UID:a2786c8e01b048b98083b24d12f28b43@saas_stack_varnish:6080
CREATED:20260225T172326Z
DESCRIPTION:Join the afternoon book club as they discuss I See You've Call
 ed in Dead by John Kenney. The library will have copies of the books avail
 able for checkout.
LAST-MODIFIED:20260225T172339Z
URL:https://www.wheelerpl.michlibrary.org/afternoon-book-club-9
END:VEVENT
BEGIN:VTIMEZONE
TZID:US/Eastern
X-LIC-LOCATION:US/Eastern
BEGIN:DAYLIGHT
DTSTART:20260308T030000
TZNAME:EDT
TZOFFSETFROM:-0500
TZOFFSETTO:-0400
END:DAYLIGHT
BEGIN:STANDARD
DTSTART:20261101T010000
TZNAME:EST
TZOFFSETFROM:-0400
TZOFFSETTO:-0500
END:STANDARD
END:VTIMEZONE
END:VCALENDAR
