BEGIN:VCALENDAR
VERSION:2.0
PRODID:-//Plone.org//NONSGML plone.app.event//EN
X-WR-TIMEZONE:US/Eastern
BEGIN:VEVENT
SUMMARY:Afternoon Book Club
DTSTART;TZID=US/Eastern:20260427T130000
DTEND;TZID=US/Eastern:20260427T140000
DTSTAMP:20260421T165716Z
UID:784976fed10340fd91c46a884ce11813@saas_stack_varnish:6080
CREATED:20260223T233344Z
DESCRIPTION:Join the afternoon book club as they discuss The Wedding Peopl
 e by Alison Espach.  The library will have copies of the books available f
 or checkout.
LAST-MODIFIED:20260223T233354Z
URL:https://www.wheelerpl.michlibrary.org/afternoon-book-club-1
END:VEVENT
BEGIN:VTIMEZONE
TZID:US/Eastern
X-LIC-LOCATION:US/Eastern
BEGIN:DAYLIGHT
DTSTART:20260308T030000
TZNAME:EDT
TZOFFSETFROM:-0500
TZOFFSETTO:-0400
END:DAYLIGHT
END:VTIMEZONE
END:VCALENDAR
