BEGIN:VCALENDAR
VERSION:2.0
PRODID:-//Plone.org//NONSGML plone.app.event//EN
X-WR-TIMEZONE:US/Eastern
BEGIN:VEVENT
SUMMARY:Afternoon Book Club
DTSTART;TZID=US/Eastern:20260928T130000
DTEND;TZID=US/Eastern:20260928T140000
DTSTAMP:20260420T064529Z
UID:4474a35795eb4eca8e77b10265db75c4@saas_stack_varnish:6080
CREATED:20260225T171854Z
DESCRIPTION:Join the afternoon book club as they discuss The Power by Naom
 i Alderman. The library will have copies of the books available for checko
 ut.
LAST-MODIFIED:20260225T171901Z
URL:https://www.wheelerpl.michlibrary.org/afternoon-book-club-6
END:VEVENT
BEGIN:VTIMEZONE
TZID:US/Eastern
X-LIC-LOCATION:US/Eastern
BEGIN:DAYLIGHT
DTSTART:20260308T030000
TZNAME:EDT
TZOFFSETFROM:-0500
TZOFFSETTO:-0400
END:DAYLIGHT
END:VTIMEZONE
END:VCALENDAR
