BEGIN:VCALENDAR
VERSION:2.0
PRODID:-//Plone.org//NONSGML plone.app.event//EN
X-WR-TIMEZONE:US/Eastern
BEGIN:VEVENT
SUMMARY:Afternoon Book Club
DTSTART;TZID=US/Eastern:20261026T130000
DTEND;TZID=US/Eastern:20261026T140000
DTSTAMP:20260420T064259Z
UID:be67f114cffd4c868930084829c59843@saas_stack_varnish:6080
CREATED:20260225T172029Z
DESCRIPTION:Join the afternoon book club as they discuss None of This Is T
 rue by Lisa Jewell. The library will have copies of the books available fo
 r checkout.
LAST-MODIFIED:20260225T172037Z
URL:https://www.wheelerpl.michlibrary.org/afternoon-book-club-7
END:VEVENT
BEGIN:VTIMEZONE
TZID:US/Eastern
X-LIC-LOCATION:US/Eastern
BEGIN:DAYLIGHT
DTSTART:20260308T030000
TZNAME:EDT
TZOFFSETFROM:-0500
TZOFFSETTO:-0400
END:DAYLIGHT
END:VTIMEZONE
END:VCALENDAR
