BEGIN:VCALENDAR
VERSION:2.0
PRODID:-//Plone.org//NONSGML plone.app.event//EN
X-WR-TIMEZONE:US/Eastern
BEGIN:VEVENT
SUMMARY:Afternoon Book Club
DTSTART;TZID=US/Eastern:20261116T130000
DTEND;TZID=US/Eastern:20261116T140000
DTSTAMP:20260420T064254Z
UID:593aa74dd7a1412cb8d69eba44ace6c3@saas_stack_varnish:6080
CREATED:20260225T172149Z
DESCRIPTION:Join the afternoon book club as they discuss Pachinko by Min J
 in Lee. The library will have copies of the books available for checkout.
LAST-MODIFIED:20260225T172158Z
URL:https://www.wheelerpl.michlibrary.org/afternoon-book-club-8
END:VEVENT
BEGIN:VTIMEZONE
TZID:US/Eastern
X-LIC-LOCATION:US/Eastern
BEGIN:STANDARD
DTSTART:20261101T010000
TZNAME:EST
TZOFFSETFROM:-0400
TZOFFSETTO:-0500
END:STANDARD
END:VTIMEZONE
END:VCALENDAR
