BEGIN:VCALENDAR
VERSION:2.0
PRODID:-//Plone.org//NONSGML plone.app.event//EN
X-WR-TIMEZONE:US/Eastern
BEGIN:VEVENT
SUMMARY:Afternoon Book Club
DTSTART;TZID=US/Eastern:20261214T130000
DTEND;TZID=US/Eastern:20261214T140000
DTSTAMP:20260420T063910Z
UID:a2786c8e01b048b98083b24d12f28b43@saas_stack_varnish:6080
CREATED:20260225T172326Z
DESCRIPTION:Join the afternoon book club as they discuss I See You've Call
 ed in Dead by John Kenney. The library will have copies of the books avail
 able for checkout.
LAST-MODIFIED:20260225T172339Z
URL:https://www.wheelerpl.michlibrary.org/afternoon-book-club-9
END:VEVENT
BEGIN:VTIMEZONE
TZID:US/Eastern
X-LIC-LOCATION:US/Eastern
BEGIN:STANDARD
DTSTART:20261101T010000
TZNAME:EST
TZOFFSETFROM:-0400
TZOFFSETTO:-0500
END:STANDARD
END:VTIMEZONE
END:VCALENDAR
