BEGIN:VCALENDAR
VERSION:2.0
PRODID:-//Plone.org//NONSGML plone.app.event//EN
X-WR-TIMEZONE:US/Eastern
BEGIN:VEVENT
SUMMARY:Afternoon Book Club - West With Giraffes
DTSTART;TZID=US/Eastern:20260126T130000
DTEND;TZID=US/Eastern:20260126T140000
DTSTAMP:20260422T034105Z
UID:73788a48de3a4b80902340f384475f84@saas_stack_varnish:6080
CREATED:20251105T200341Z
DESCRIPTION:Join the Afternoon Book Club group as they discuss West With G
 iraffes by Lynda Rutledge. The Library will have copies of the book availa
 ble for checkout at the front desk.
LAST-MODIFIED:20251105T200348Z
URL:https://www.wheelerpl.michlibrary.org/afternoon-book-club-west-with-gi
 raffes
END:VEVENT
BEGIN:VTIMEZONE
TZID:US/Eastern
X-LIC-LOCATION:US/Eastern
BEGIN:STANDARD
DTSTART:20251102T010000
TZNAME:EST
TZOFFSETFROM:-0400
TZOFFSETTO:-0500
END:STANDARD
END:VTIMEZONE
END:VCALENDAR
