BEGIN:VCALENDAR
VERSION:2.0
PRODID:-//Plone.org//NONSGML plone.app.event//EN
X-WR-TIMEZONE:US/Eastern
BEGIN:VEVENT
SUMMARY:Craft Hour
DTSTART;TZID=US/Eastern:20260116T103000
DTEND;TZID=US/Eastern:20260116T113000
DTSTAMP:20260422T034340Z
UID:7fb087f6fa4340e4a4e17b77350ed9e5@saas_stack_varnish:6080
CREATED:20260107T171608Z
DESCRIPTION:Bring your current craft project and join us for Craft Hour! T
 his open\, social program is a chance to work on your own projects alongsi
 de others\, share ideas\, and enjoy some creative time together. Please br
 ing your own craft supplies. All skill levels are welcome.
LAST-MODIFIED:20260107T171626Z
URL:https://www.wheelerpl.michlibrary.org/craft-hour
END:VEVENT
BEGIN:VTIMEZONE
TZID:US/Eastern
X-LIC-LOCATION:US/Eastern
BEGIN:STANDARD
DTSTART:20251102T010000
TZNAME:EST
TZOFFSETFROM:-0400
TZOFFSETTO:-0500
END:STANDARD
END:VTIMEZONE
END:VCALENDAR
