BEGIN:VCALENDAR
VERSION:2.0
PRODID:-//Plone.org//NONSGML plone.app.event//EN
X-WR-TIMEZONE:US/Eastern
BEGIN:VEVENT
SUMMARY:Library Board Meeting
DTSTART;TZID=US/Eastern:20261201T170000
DTEND;TZID=US/Eastern:20261201T180000
DTSTAMP:20260420T064648Z
UID:3a0c627576fd418fb8ad8ce94f5a8553@saas_stack_varnish:6080
CREATED:20260107T190521Z
LAST-MODIFIED:20260107T190740Z
URL:https://www.wheelerpl.michlibrary.org/library-board-meeting-2
END:VEVENT
BEGIN:VTIMEZONE
TZID:US/Eastern
X-LIC-LOCATION:US/Eastern
BEGIN:STANDARD
DTSTART:20261101T010000
TZNAME:EST
TZOFFSETFROM:-0400
TZOFFSETTO:-0500
END:STANDARD
END:VTIMEZONE
END:VCALENDAR
