BEGIN:VCALENDAR
VERSION:2.0
PRODID:-//Plone.org//NONSGML plone.app.event//EN
X-WR-TIMEZONE:US/Eastern
BEGIN:VEVENT
SUMMARY:Closed for Christmas
DTSTART;VALUE=DATE:20241224
DTEND;VALUE=DATE:20241226
DTSTAMP:20260423T101736Z
UID:cabb1764760c400e9883187db229d876@saas_stack_varnish:6080
CREATED:20240429T211539Z
LAST-MODIFIED:20240429T211546Z
URL:https://www.wheelerpl.michlibrary.org/news-events/lib-cal/closed-for-c
 hristmas
END:VEVENT
END:VCALENDAR
