BEGIN:VCALENDAR
VERSION:2.0
PRODID:-//Plone.org//NONSGML plone.app.event//EN
X-WR-TIMEZONE:US/Eastern
BEGIN:VEVENT
SUMMARY:Evening Book Club
DTSTART;TZID=US/Eastern:20241209T173000
DTEND;TZID=US/Eastern:20241209T183000
DTSTAMP:20260423T102852Z
UID:07e62f482aca4f9cb05d9d0d7e395c82@saas_stack_varnish:6080
CREATED:20240424T202932Z
DESCRIPTION:We will be discussing a Christmas book of your choice!
LAST-MODIFIED:20241030T204107Z
URL:https://www.wheelerpl.michlibrary.org/news-events/lib-cal/evening-book
 -club-7
END:VEVENT
BEGIN:VTIMEZONE
TZID:US/Eastern
X-LIC-LOCATION:US/Eastern
BEGIN:STANDARD
DTSTART:20241103T010000
TZNAME:EST
TZOFFSETFROM:-0400
TZOFFSETTO:-0500
END:STANDARD
END:VTIMEZONE
END:VCALENDAR
