BEGIN:VCALENDAR
VERSION:2.0
PRODID:-//Plone.org//NONSGML plone.app.event//EN
X-WR-TIMEZONE:US/Eastern
BEGIN:VEVENT
SUMMARY:Teen Owl Pellet Dissection Program
DTSTART;TZID=US/Eastern:20260413T153000
DTEND;TZID=US/Eastern:20260413T163000
DTSTAMP:20260421T104907Z
UID:4c3c5a1124ba4c91ac9c259d076eaf09@saas_stack_varnish:6080
CREATED:20260223T224326Z
DESCRIPTION:We’re partnering with the Outdoor Discovery Center for a tee
 n owl pellet dissection program. Participants will dissect real owl pellet
 s and learn what owls eat and how their digestive systems work. This progr
 am is free\, but registration is required so we know how many owl pellets 
 to have available
LAST-MODIFIED:20260223T224336Z
URL:https://www.wheelerpl.michlibrary.org/teen-owl-pellet-dissection-progr
 am
END:VEVENT
BEGIN:VTIMEZONE
TZID:US/Eastern
X-LIC-LOCATION:US/Eastern
BEGIN:DAYLIGHT
DTSTART:20260308T030000
TZNAME:EDT
TZOFFSETFROM:-0500
TZOFFSETTO:-0400
END:DAYLIGHT
END:VTIMEZONE
END:VCALENDAR
